BEGIN:VCALENDAR
METHOD:PUBLISH
VERSION:2.0
PRODID:-//WoltLab GmbH//WoltLab Suite Calendar 5.4//EN
CALSCALE:GREGORIAN
X-WR-CALNAME;VALUE=TEXT:AStA-Sitzung
BEGIN:VEVENT
TRANSP:OPAQUE
UID:event-53@www.asta-jade.de
URL:https://www.asta-jade.de/kalender/event/83-asta-sitzung/
DTSTART:20231010T160000Z
DTSTAMP:20231010T160000Z
CREATED:20231010T160000Z
SUMMARY:AStA-Sitzung
DESCRIPTION:Die vorläufige Tagesordnung\nTOP 1: Begrüßung und Formalitäten\
 n\nTOP 2: Verabschiedung der letzten Sitzungsprotokolle\n\nTOP 3: Neue und 
 alte Mitglieder des AStA\n\nTOP 4: Berichte Standorte\n\nTOP 5: Zukunft der
  Standorte\n\nTOP 6: Sonstiges
LOCATION:S105
DTEND:20231010T180000Z
END:VEVENT
END:VCALENDAR
