BEGIN:VCALENDAR
METHOD:PUBLISH
VERSION:2.0
PRODID:-//WoltLab GmbH//WoltLab Suite Calendar 5.4//EN
CALSCALE:GREGORIAN
X-WR-CALNAME;VALUE=TEXT:Ordentliche Sitzung FSR MIT
BEGIN:VEVENT
TRANSP:OPAQUE
UID:event-54@www.asta-jade.de
URL:https://www.asta-jade.de/kalender/event/84-ordentliche-sitzung-fsr-mana
 gement-infomation-technologie/
DTSTART:20231005T170000Z
DTSTAMP:20231005T170000Z
CREATED:20231005T170000Z
SUMMARY:Ordentliche Sitzung FSR MIT
DESCRIPTION:In der nächsten Sitzung werden folgende Punkte besprochen:\n\nB
 egrüßung und Feststellung der Beschlussfähigkeit\nÄnderungsvorschlag Geschä
 ftsordnung FSR MIT\nFSR Hoodie und T-Shirt Beschaffung\nÖffnungszeiten\nÜbe
 rsicht  Finanzen \nStammtisch reloaded\nmögliche Social Media Kampagnen\nEr
 sti-Tüten Feedback und Vorbereitung für das SoSe 2024\nThemen die sonst noc
 h besprochen werden müssen
LOCATION:Online
DTEND:20231005T180000Z
CATEGORIES:FSR MIT,Sitzung,WS 23/24
END:VEVENT
END:VCALENDAR
