BEGIN:VCALENDAR
METHOD:PUBLISH
VERSION:2.0
PRODID:-//WoltLab GmbH//WoltLab Suite Calendar 5.4//EN
CALSCALE:GREGORIAN
X-WR-CALNAME;VALUE=TEXT:Studienparlamentssitzung
BEGIN:VEVENT
TRANSP:OPAQUE
UID:event-55@www.asta-jade.de
URL:https://www.asta-jade.de/kalender/event/85-studienparlamentssitzung/
DTSTART:20231010T180000Z
DTSTAMP:20231010T180000Z
CREATED:20231010T180000Z
SUMMARY:Studienparlamentssitzung
DESCRIPTION:Die Tagesordnung\, öffentliche Anträge und Sitzungsunterlagen s
 ind in unserem Moodle-Kurs unter dem Reiter \"Ordentliche Sitzung 10.10.202
 3\"  einsehbar.\n\nhttps://moodle.jade-hs.de/moodle/course/view.php?id=2523
 #section-1\n\n(Selbsteinschreibung notwendig)
LOCATION:S105
DTEND:20231010T200000Z
END:VEVENT
END:VCALENDAR
