BEGIN:VCALENDAR
METHOD:PUBLISH
VERSION:2.0
PRODID:-//WoltLab GmbH//WoltLab Suite Calendar 5.4//EN
CALSCALE:GREGORIAN
X-WR-CALNAME;VALUE=TEXT:Informationsabend zur studentischen Selbstverwaltun
 g / Gremienarbeit
BEGIN:VEVENT
TRANSP:OPAQUE
UID:event-57@www.asta-jade.de
URL:https://www.asta-jade.de/kalender/event/87-informationsabend-zur-studen
 tischen-selbstverwaltung-gremienarbeit/
DTSTART:20231017T150000Z
DTSTAMP:20231017T150000Z
CREATED:20231017T150000Z
SUMMARY:Informationsabend zur studentischen Selbstverwaltung / Gremienarbei
 t
DESCRIPTION:Wir möchten euch herzlich zum Informationsabend zur studentisch
 en Mitwirkung an der Jade Hochschule einladen.\n\nAm Dienstag\, dem 17.10.2
 023 um 17:00 Uhr empfangen wir euch mit Speis und Trank im Lichthof am Camp
 us Oldenburg um euch etwas über die unterschiedlichen Gremien zu erzählen!\
 n\nEgal ob Ersti oder erfahrenes Semester\, es ist nie zu früh oder zu spät
 \, um mitzumachen. Ganz egal von welchem Standort oder Studiengang ihr komm
 t\, ihr seid alle eingeladen.\n\nEuch erwarten kurz Vorträge zu den Gremien
 . Im Anschluss werdet ihr Gelegenheit haben mit den Vertretern im Kontakt z
 u treten und euch weitere Informationen zu holen.\n\nEs gibt viele Möglichk
 eiten etwas zu bewirken\, da ist sicher auch für dich etwas dabei!\n\nKonkr
 et werden wir informieren über: Den Senat\, den Fachbereichsrat\, die Kommi
 ssionen\, das Studierenden Parlament (StuPa)\, den Allgemeinen Studierenden
  Ausschuss (AStA) und die Fachschaftsräte (FSR).
LOCATION:Lichthof
DTEND:20231017T200000Z
END:VEVENT
END:VCALENDAR
