BEGIN:VCALENDAR
METHOD:PUBLISH
VERSION:2.0
PRODID:-//WoltLab GmbH//WoltLab Suite Calendar 5.4//EN
CALSCALE:GREGORIAN
X-WR-CALNAME;VALUE=TEXT:Grillveranstaltung des Fachschaftsrates BGG  - KuBa
 r Oldenburg
BEGIN:VEVENT
TRANSP:OPAQUE
UID:event-61@www.asta-jade.de
URL:https://www.asta-jade.de/kalender/event/91-grillveranstaltung-des-fachs
 chaftsrates-bauwesen-geoinformation-gesundheitstechn/
DTSTART:20231115T160000Z
DTSTAMP:20231115T160000Z
CREATED:20231115T160000Z
SUMMARY:Grillveranstaltung des Fachschaftsrates BGG  - KuBar Oldenburg
DESCRIPTION:Der Fachschaftsrat BGG läd am 15.11 zu einem Grillabend in und 
 vor der KuBar am Standort Oldenburg ein.\n\nNeben Bier und Softdrinks verka
 ufen wir auch Glühwein. Auf den Grill kommen Würstchen vom Schwein und Vega
 ne Würstchen.\n\nWem es trotz des Glühweins draußen zu kalt ist kann sich i
 n der KuBar wieder warm tanzen!  :star_struck:
DTEND:20231115T220000Z
CATEGORIES:Party,Fachschaftsratbgg,grillen,kubar
END:VEVENT
END:VCALENDAR
