BEGIN:VCALENDAR
METHOD:PUBLISH
VERSION:2.0
PRODID:-//WoltLab GmbH//WoltLab Suite Calendar 5.4//EN
CALSCALE:GREGORIAN
X-WR-CALNAME;VALUE=TEXT:Sitzung Dezember - FSR-BGG
BEGIN:VEVENT
TRANSP:OPAQUE
UID:event-62@www.asta-jade.de
URL:https://www.asta-jade.de/kalender/event/92-sitzung-dezember-fsr-bauwese
 n-geoinformation-gesundheitstechnologie/
DTSTART:20231204T163000Z
DTSTAMP:20231204T163000Z
CREATED:20231204T163000Z
SUMMARY:Sitzung Dezember - FSR-BGG
DESCRIPTION:Wir laden zur hochschulöffentlichen Sitzung des FSR-BGG im Deze
 mber ein.\n\nOldenburg Hauptgebäude II-07 um 17:30 Uhr
DTEND:20231204T190000Z
END:VEVENT
END:VCALENDAR
