BEGIN:VCALENDAR
METHOD:PUBLISH
VERSION:2.0
PRODID:-//WoltLab GmbH//WoltLab Suite Calendar 5.4//EN
CALSCALE:GREGORIAN
X-WR-CALNAME;VALUE=TEXT:AStA-Sitzung
BEGIN:VEVENT
TRANSP:OPAQUE
UID:event-63@www.asta-jade.de
URL:https://www.asta-jade.de/kalender/event/93-asta-sitzung/
DTSTART:20231212T170000Z
DTSTAMP:20231212T170000Z
CREATED:20231212T170000Z
SUMMARY:AStA-Sitzung
DESCRIPTION:Vorläufigge Tagesordnung\nTOP 1: Begrüßung und Formalitäten\n\n
 TOP 2: Verabschiedung der letzten Sitzungsprotokolle\n\nTOP 3: Neue und alt
 e Mitglieder des AStA\n\nTOP 4: Berichte Standorte/ Kino  Referat\n\nTOP 5:
  Zukunft der Standorte/Bürokraft\n\nTOP 6: Sonstiges\n\nOnline-Zugang über 
 Moodle\nhttps://moodle.jade-hs.de/moodle/course/view.php?id=5807
LOCATION:Online / Oldenburg\, HB 1-15
DTEND:20231212T190000Z
END:VEVENT
END:VCALENDAR
