BEGIN:VCALENDAR
METHOD:PUBLISH
VERSION:2.0
PRODID:-//WoltLab GmbH//WoltLab Suite Calendar 5.4//EN
CALSCALE:GREGORIAN
X-WR-CALNAME;VALUE=TEXT:Spieleabend Fachschaftsrat BGG in der KuBar
BEGIN:VEVENT
TRANSP:OPAQUE
UID:event-65@www.asta-jade.de
URL:https://www.asta-jade.de/kalender/event/95-spieleabend-fachschaftsrat-b
 auwesen-geoinformation-gesundheitstechnologie-in-der/
DTSTART:20240313T160000Z
DTSTAMP:20240313T160000Z
CREATED:20240313T160000Z
SUMMARY:Spieleabend Fachschaftsrat BGG in der KuBar
DESCRIPTION:Wir laden euch zu unserem Spieleabend in der KuBar ein!\n\nBier
  und Wurst (auch vegan) wird reichlich verkauft  :smiling_face_with_sunglas
 ses:
LOCATION:KuBar
DTEND:20240313T210000Z
CATEGORIES:event,Party,kubar,Spieleabend
END:VEVENT
END:VCALENDAR
